BEGIN:VCALENDAR
VERSION:2.0
CALSCALE:GREGORIAN
PRODID:adamgibbons/ics
METHOD:PUBLISH
X-PUBLISHED-TTL:PT1H
BEGIN:VEVENT
UID:a60acf3f-d88c-4e9d-902d-685de0ce69f0
SUMMARY:Maptime AMS #2
DTSTAMP:20260421T133244Z
DTSTART:20141217T173000Z
DTEND:20141217T173000Z
URL:https://waag.org/en/event/maptime-ams-2
LOCATION:Waag\, Theatrum Anatomicum\, Nieuwmarkt 4\, 1012 CR Amsterdam
CATEGORIES:mapmaking
CREATED:20141119T160600Z
LAST-MODIFIED:20190406T115000Z
END:VEVENT
END:VCALENDAR
