BEGIN:VCALENDAR
VERSION:2.0
CALSCALE:GREGORIAN
PRODID:adamgibbons/ics
METHOD:PUBLISH
X-PUBLISHED-TTL:PT1H
BEGIN:VEVENT
UID:adbc6908-989e-4f1e-aa71-061a4225c9eb
SUMMARY:Maptime #11 at DataLab
DTSTAMP:20260421T133359Z
DTSTART:20170209T160000Z
DTEND:20170209T193000Z
URL:https://waag.org/en/event/maptime-11-datalab
LOCATION:DataLab\, Weesperstraat 113 BG\, Amsterdam 
CATEGORIES:mapmaking
CREATED:20170203T132300Z
LAST-MODIFIED:20190703T135500Z
END:VEVENT
END:VCALENDAR
