BEGIN:VCALENDAR
VERSION:2.0
CALSCALE:GREGORIAN
PRODID:adamgibbons/ics
METHOD:PUBLISH
X-PUBLISHED-TTL:PT1H
BEGIN:VEVENT
UID:b0dd72e9-5334-441f-8742-445f1492438f
SUMMARY:Workshop DIYBiology: Hacking Living Material
DTSTAMP:20260421T123905Z
DTSTART:20160531T070000Z
DTEND:20160531T083000Z
URL:https://waag.org/en/event/workshop-diybiology-hacking-living-material
LOCATION:European Parliament\, Brussels
CATEGORIES:biohacking,workshop
CREATED:20180206T200700Z
LAST-MODIFIED:20180206T200700Z
END:VEVENT
END:VCALENDAR
