BEGIN:VCALENDAR
VERSION:2.0
CALSCALE:GREGORIAN
PRODID:adamgibbons/ics
METHOD:PUBLISH
X-PUBLISHED-TTL:PT1H
BEGIN:VEVENT
UID:be1d9508-1f2a-4338-b332-311fe0758d14
SUMMARY:Erfgoedwijsheid: kennis of emotie?
DTSTAMP:20260421T133430Z
DTSTART:20190110T113000Z
DTEND:20190110T140000Z
URL:https://waag.org/nl/event/erfgoedwijsheid-kennis-emotie
LOCATION:Waag\, Nieuwmarkt 4\, 1012 CR Amsterdam
CATEGORIES:cultural heritage,media literacy
CREATED:20181221T111900Z
LAST-MODIFIED:20190407T112300Z
END:VEVENT
END:VCALENDAR
