BEGIN:VCALENDAR
VERSION:2.0
CALSCALE:GREGORIAN
PRODID:adamgibbons/ics
METHOD:PUBLISH
X-PUBLISHED-TTL:PT1H
BEGIN:VEVENT
UID:c1481925-0740-474e-a1e9-642fd787b520
SUMMARY:European Makerweek
DTSTAMP:20260422T170736Z
DTSTART:20160529T210000Z
DTEND:20160604T210000Z
URL:https://waag.org/en/event/european-makerweek
LOCATION:Several locations around Europe
CATEGORIES:maker movement,digital fabrication,fablab amsterdam
CREATED:20180207T152800Z
LAST-MODIFIED:20190406T183700Z
END:VEVENT
END:VCALENDAR
