BEGIN:VCALENDAR
VERSION:2.0
CALSCALE:GREGORIAN
PRODID:adamgibbons/ics
METHOD:PUBLISH
X-PUBLISHED-TTL:PT1H
BEGIN:VEVENT
UID:c33235b7-66cb-4e3e-9f13-03880b614e12
SUMMARY:Informatie- en kennismakingsevent Hackathon de groene stad
DTSTAMP:20260420T165752Z
DTSTART:20200910T130000Z
DTEND:20200910T150000Z
URL:https://waag.org/nl/event/informatie-en-kennismakingsevent-hackathon-de
	-groene-stad
LOCATION:Online
CATEGORIES:
CREATED:20200909T153800Z
LAST-MODIFIED:20200910T071300Z
END:VEVENT
END:VCALENDAR
