BEGIN:VCALENDAR
VERSION:2.0
CALSCALE:GREGORIAN
PRODID:adamgibbons/ics
METHOD:PUBLISH
X-PUBLISHED-TTL:PT1H
BEGIN:VEVENT
UID:c391b8df-9b08-4ec6-9cd5-b38906f17c5b
SUMMARY:Temporary Assembly of Borderless States
DTSTAMP:20260422T161130Z
DTSTART:20161222T120000Z
DTEND:20161222T150000Z
URL:https://waag.org/en/event/temporary-assembly-borderless-states
LOCATION:Waag\, Nieuwmarkt 4\, 1012 CR Amsterdam
CATEGORIES:digital heritage
CREATED:20180206T205800Z
LAST-MODIFIED:20180206T205800Z
END:VEVENT
END:VCALENDAR
