BEGIN:VCALENDAR
VERSION:2.0
CALSCALE:GREGORIAN
PRODID:adamgibbons/ics
METHOD:PUBLISH
X-PUBLISHED-TTL:PT1H
BEGIN:VEVENT
UID:c4abe9e3-06c7-4999-be25-deca4d93ee9b
SUMMARY:De Verkenners #2: het publiek regeert?
DTSTAMP:20260419T150427Z
DTSTART:20130329T160000Z
DTEND:20130329T160000Z
URL:https://waag.org/en/event/de-verkenners-2-het-publiek-regeert
LOCATION:De Balie\, Kleine Gartmanplantsoen 10\, 1017 RR Amsterdam
CATEGORIES:social innovation
CREATED:20180204T160100Z
LAST-MODIFIED:20180204T160100Z
END:VEVENT
END:VCALENDAR
