BEGIN:VCALENDAR
VERSION:2.0
CALSCALE:GREGORIAN
PRODID:adamgibbons/ics
METHOD:PUBLISH
X-PUBLISHED-TTL:PT1H
BEGIN:VEVENT
UID:ca37f22c-6b96-47c2-b4bc-3243ed6bb519
SUMMARY:Confronting Vegetal Otherness: Skotopoiesis
DTSTAMP:20260419T225314Z
DTSTART:20150910T090000Z
DTEND:20150911T140000Z
URL:https://waag.org/en/event/confronting-vegetal-otherness-skotopoiesis
LOCATION:Kapelica Gallery\, Kersnikova 4\, SI-1000 Ljubljana
CATEGORIES:artistic research,artist in residence
CREATED:20180208T095000Z
LAST-MODIFIED:20180804T141900Z
END:VEVENT
END:VCALENDAR
