BEGIN:VCALENDAR
VERSION:2.0
CALSCALE:GREGORIAN
PRODID:adamgibbons/ics
METHOD:PUBLISH
X-PUBLISHED-TTL:PT1H
BEGIN:VEVENT
UID:ce4c4559-5e0a-4331-85f6-0d451851321c
SUMMARY:Baby\, can you drive my car?
DTSTAMP:20260424T220851Z
DTSTART:20170520T170000Z
DTEND:20170520T170000Z
URL:https://waag.org/en/event/baby-can-you-drive-my-car
LOCATION:Frascati\, Nes 63\, Amsterdam
CATEGORIES:hackers & designers,technology
CREATED:20170424T142800Z
LAST-MODIFIED:20170424T142800Z
END:VEVENT
END:VCALENDAR
