BEGIN:VCALENDAR
VERSION:2.0
CALSCALE:GREGORIAN
PRODID:adamgibbons/ics
METHOD:PUBLISH
X-PUBLISHED-TTL:PT1H
BEGIN:VEVENT
UID:d7117b6c-96fe-4b90-a499-89089ef86ec2
SUMMARY:Waag Makes - De Thuismakers gaan op onderzoek uit
DTSTAMP:20260426T043402Z
DTSTART:20200417T060000Z
DTEND:20200424T070000Z
URL:https://waag.org/nl/event/waag-makes-de-thuismakers-gaan-op-onderzoek-u
	it
LOCATION:Thuis
CATEGORIES:learning by making,maker education
CREATED:20200408T160200Z
LAST-MODIFIED:20200619T101300Z
END:VEVENT
END:VCALENDAR
