BEGIN:VCALENDAR
VERSION:2.0
CALSCALE:GREGORIAN
PRODID:adamgibbons/ics
METHOD:PUBLISH
X-PUBLISHED-TTL:PT1H
BEGIN:VEVENT
UID:d8adbe44-99d4-4282-bf7d-e9662b9c3527
SUMMARY:Public Stack Summit 
DTSTAMP:20260424T125226Z
DTSTART:20180619T080000Z
DTEND:20180619T150000Z
URL:https://waag.org/en/event/public-stack-summit
LOCATION:WeMakeThe.City\, Amsterdam
CATEGORIES:public research
CREATED:20180507T131100Z
LAST-MODIFIED:20180622T155100Z
END:VEVENT
END:VCALENDAR
