BEGIN:VCALENDAR
VERSION:2.0
CALSCALE:GREGORIAN
PRODID:adamgibbons/ics
METHOD:PUBLISH
X-PUBLISHED-TTL:PT1H
BEGIN:VEVENT
UID:dd710105-f0b5-4098-b18f-1741c9db1ae1
SUMMARY:FabSchool Kids centrum #1
DTSTAMP:20260421T084716Z
DTSTART:20141008T110000Z
DTEND:20141008T133000Z
URL:https://waag.org/en/event/fabschool-kids-centrum-1
LOCATION:Waag\, Nieuwmarkt 4\, 1012 CR Amsterdam
CATEGORIES:learning by making,fabschool
CREATED:20140721T121800Z
LAST-MODIFIED:20180314T100800Z
END:VEVENT
END:VCALENDAR
