BEGIN:VCALENDAR
VERSION:2.0
CALSCALE:GREGORIAN
PRODID:adamgibbons/ics
METHOD:PUBLISH
X-PUBLISHED-TTL:PT1H
BEGIN:VEVENT
UID:dfc24215-44a1-4033-bc24-f8202bbe5167
SUMMARY:Hack the Brain 2014
DTSTAMP:20260420T235409Z
DTSTART:20140522T210000Z
DTEND:20140524T210000Z
URL:https://waag.org/en/event/hack-brain-2014
LOCATION:Waag\, Nieuwmarkt 4\, 1012 CR Amsterdam
CATEGORIES:brainhacking
CREATED:20140320T162100Z
LAST-MODIFIED:20190330T214500Z
END:VEVENT
END:VCALENDAR
