BEGIN:VCALENDAR
VERSION:2.0
CALSCALE:GREGORIAN
PRODID:adamgibbons/ics
METHOD:PUBLISH
X-PUBLISHED-TTL:PT1H
BEGIN:VEVENT
UID:e04e2d99-c88b-43af-8199-cf716e3175b7
SUMMARY:FairBnB #6: prototype proposal and manifesto
DTSTAMP:20260419T161507Z
DTSTART:20170213T170000Z
DTEND:20170213T203000Z
URL:https://waag.org/en/event/fairbnb-6-prototype-proposal-and-manifesto
LOCATION:Waag\, Nieuwmarkt 4\, 1012 CR Amsterdam
CATEGORIES:collaborative economy
CREATED:20170124T195200Z
LAST-MODIFIED:20190501T093500Z
END:VEVENT
END:VCALENDAR
