BEGIN:VCALENDAR
VERSION:2.0
CALSCALE:GREGORIAN
PRODID:adamgibbons/ics
METHOD:PUBLISH
X-PUBLISHED-TTL:PT1H
BEGIN:VEVENT
UID:e30488ca-2af1-47de-8ec3-24c8e2aef31f
SUMMARY:AUIW: Reinventing Cities by Grassroots Innovation 
DTSTAMP:20260421T165240Z
DTSTART:20130920T110000Z
DTEND:20130920T160000Z
URL:https://waag.org/en/event/auiw-reinventing-cities-grassroots-innovation
LOCATION:Waag\, Nieuwmarkt 4\, Amsterdam
CATEGORIES:social innovation
CREATED:20180204T153600Z
LAST-MODIFIED:20190405T150400Z
END:VEVENT
END:VCALENDAR
