BEGIN:VCALENDAR
VERSION:2.0
CALSCALE:GREGORIAN
PRODID:adamgibbons/ics
METHOD:PUBLISH
X-PUBLISHED-TTL:PT1H
BEGIN:VEVENT
UID:ec0dae00-3ea0-4b23-8c8d-017169c6dd43
SUMMARY:KiiCS & ICT Art Connect @ Ars Electronica
DTSTAMP:20260425T110714Z
DTSTART:20140906T073000Z
DTEND:20140906T090000Z
URL:https://waag.org/en/event/kiics-ict-art-connect-ars-electronica
LOCATION:Akademisches Gymnasium\, New Building\, I-Center\, Linz
CATEGORIES:art & science
CREATED:20180204T172400Z
LAST-MODIFIED:20180204T172400Z
END:VEVENT
END:VCALENDAR
