BEGIN:VCALENDAR
VERSION:2.0
CALSCALE:GREGORIAN
PRODID:adamgibbons/ics
METHOD:PUBLISH
X-PUBLISHED-TTL:PT1H
BEGIN:VEVENT
UID:ecbc384f-0d7c-40d5-a633-8c2646cb7018
SUMMARY:Dutchpack
DTSTAMP:20260424T084902Z
DTSTART:20120906T124500Z
DTEND:20120906T153000Z
URL:https://waag.org/en/event/dutchpack
LOCATION:Waag\, Nieuwmarkt 4\, Amsterdam
CATEGORIES:eculture
CREATED:20120827T151400Z
LAST-MODIFIED:20180718T133800Z
END:VEVENT
END:VCALENDAR
