BEGIN:VCALENDAR
VERSION:2.0
CALSCALE:GREGORIAN
PRODID:adamgibbons/ics
METHOD:PUBLISH
X-PUBLISHED-TTL:PT1H
BEGIN:VEVENT
UID:f008afa4-05de-44ea-a2b1-6f750535bda9
SUMMARY:MakeHealth MeetUp
DTSTAMP:20260420T114748Z
DTSTART:20180419T180000Z
DTEND:20180419T200000Z
URL:https://waag.org/en/event/makehealth-meetup
LOCATION:Waag\, Nieuwmarkt 4\, 1012 CR Amsterdam
CATEGORIES:healthcare,makehealth
CREATED:20180415T083700Z
LAST-MODIFIED:20190703T134800Z
END:VEVENT
END:VCALENDAR
