BEGIN:VCALENDAR
VERSION:2.0
CALSCALE:GREGORIAN
PRODID:adamgibbons/ics
METHOD:PUBLISH
X-PUBLISHED-TTL:PT1H
BEGIN:VEVENT
UID:fbb90768-6c4b-428c-bce4-9f7916f9eff2
SUMMARY:Workshop eCitizen Charter EU
DTSTAMP:20260419T123750Z
DTSTART:20170626T090000Z
DTEND:20170626T140000Z
URL:https://waag.org/en/event/workshop-ecitizen-charter-eu
LOCATION:Waag\, Nieuwmarkt 4\, 1012 CR Amsterdam
CATEGORIES:egovernment
CREATED:20170613T200700Z
LAST-MODIFIED:20180324T161000Z
END:VEVENT
END:VCALENDAR
